Workbook

Sheet Leg.
A1: Município: Bom Princípio
A2: PLANO PLURIANUAL 2026 - 2029
A3: ANEXO II - Programas de Gestão e Finalísticos
A5: PROGRAMA GESTÃO
A6: NÚMERO DO PROGRAMA | B6: NOME DA AÇÃO | C6: 2026 | D6: 2027 | E6: 2028 | F6: 2029 | G6: Total
A7: 1 | B7: MANUTENÇÃO DAS ATIVIDADES LEGISLATIVAS | C7: 1704000 | D7: 1800000 | E7: 1896000 | F7: 2000000 | G7: =SUM(C7:F7) -> 7400000

Sheet GAB.
A1: Município: Bom Princípio
A2: PLANO PLURIANUAL 2026 - 2029
A3: ANEXO II - Programas de Gestão e Finalísticos
A5: PROGRAMA GESTÃO
A6: NÚMERO DO PROGRAMA | B6: NOME DA AÇÃO | C6: 2026 | D6: 2027 | E6: 2028 | F6: 2029 | G6: Total
A7: 2 | B7: MANUTENÇÃO DO GABINETE DO PREFEITO | C7: 1546000 | D7: 1607000 | E7: 1668000 | F7: 1731000 | G7: =SUM(C7:F7) -> 6552000

Sheet SMAFAJ
A1: Município: Bom Princípio
A2: PLANO PLURIANUAL 2026 - 2029
A3: ANEXO II - Programas de Gestão e Finalísticos
A5: PROGRAMA GESTÃO
A6: NÚMERO DO PROGRAMA | B6: NOME DA AÇÃO | C6: 2026 | D6: 2027 | E6: 2028 | F6: 2029 | G6: Total
A7: 3 | B7: MANUTENÇÃO DA SECRETARIA MUNICIPAL DE ADMINISTRAÇÃO E FINANÇAS E ASSUNTOS JURIDICOS | C7: 5168000 | D7: 5372000 | E7: 5577000 | F7: 5787000 | G7: =SUM(C7:F7) -> 21904000
A9: PROGRAMA GESTÃO
A10: NÚMERO DO PROGRAMA | B10: NOME DA AÇÃO | C10: 2026 | D10: 2027 | E10: 2028 | F10: 2029 | G10: Total
A11: 9 | B11: MANUTENÇÃO ATIVIDADES ADMINISTRATIVAS RPPS | C11: 250000 | D11: 250000 | E11: 250000 | F11: 250000 | G11: =SUM(C11:F11) -> 1000000
A13: PROGRAMA GESTÃO
A14: NÚMERO DO PROGRAMA | B14: NOME DA AÇÃO | C14: 2026 | D14: 2027 | E14: 2028 | F14: 2029 | G14: Total
A15: 0 | B15: BENEFICIO DE APOSENTADORIA E PENSÃO | C15: 11500000 | D15: 12000000 | E15: 12500000 | F15: 13000000 | G15: =SUM(C15:F15) -> 49000000
A16: 0 | B16: AMORT DIV FUNDADA | C16: 12070000 | D16: 12547000 | E16: 13025000 | F16: 13515000 | G16: =SUM(C16:F16) -> 51157000
A17: 0 | B17: AMORT DIV PREVIDENCIARIA | C17: 587000 | D17: 610000 | E17: 633000 | F17: 657000 | G17: =SUM(C17:F17) -> 2487000
A18: 0 | B18: PRECATÓRIOS JUDICIAIS | C18: 100000 | D18: 104000 | E18: 108000 | F18: 112000 | G18: =SUM(C18:F18) -> 424000
A19: 9999 | B19: RES CONTING LIVRE | C19: 1500000 | D19: 1500000 | E19: 1500000 | F19: 1500000 | G19: =SUM(C19:F19) -> 6000000
A20: 9999 | B20: RES CONTING RPPS | C20: 4250000 | D20: 4250000 | E20: 4250000 | F20: 4250000 | G20: =SUM(C20:F20) -> 17000000
A22: IDENTIFICAÇÃO | B22: DESCRIÇÃO
A24: Órgão | B24: Secretaria Municipal de Administração e Finanças
A25: Diretriz: | B25: Incluir tecnologia em uma visão sistêmica e multisetorial em prol do desenvolvimento sustentável
A26: Programa | B26: 207- CIDADE DIGITAL
A27: Público-Alvo | B27: Munícipes
A28: Objetivo: | B28: Fazer uso de sistemas tecnológicos de forma estratégica para melhoria da comunicação, do planejamento e da gestão pública
C29: VALORES E/OU INDICADORES
C30: 2026 | D30: 2027 | E30: 2028 | F30: 2029 | G30: Total
A32: Atividade | B32: Implementar novas tecnologias para melhorar o atendimento aos munícipes | C32: 66000 | D32: 69000 | E32: 71000 | F32: 74000 | G32: =SUM(C32:F32) -> 280000
A33: Indicador de resultado: | B33: Atualização de sistemas e implentação de novas tecnologias
A34: Meta Prevista | B34: Implantar 08 serviços tecnológicos | C34: 2 | D34: 2 | E34: 2 | F34: 2 | G34: 8
A35: Índice Atual | B35: 6 serviços
A36: Data Aferição | B36: 45838
A37: Periodicidade de medição: | B37: Anual
A38: Forma de Cálculo: | B38: Número de serviços tecnológicos implantados
A40: Órgão | B40: Secretaria Municipal de Administração e Finanças
A41: Diretriz: | B41: Buscar serviços de segurança, implementando um sistema de monitoramento e cercamento eletrônico
A42: Programa | B42: 211- PROTEGER
A43: Público-Alvo | B43: Munícipes
A44: Objetivo: | B44: Garantir segurança a população de Bom Princípio
C45: VALORES E/OU INDICADORES
C46: 2026 | D46: 2027 | E46: 2028 | F46: 2029 | G46: Total
A47: Valor | C47: 428000 | D47: 445000 | E47: 462000 | F47: 479000 | G47: =SUM(C47:F47) -> 1814000
...

Sheet SMECD
A1: Município: Bom Princípio
A2: PLANO PLURIANUAL 2026 - 2029
A3: ANEXO II - Programas de Gestão e Finalísticos
A5: PROGRAMA GESTÃO
A6: NÚMERO DO PROGRAMA | B6: NOME DA AÇÃO | C6: 2026 | D6: 2027 | E6: 2028 | F6: 2029 | G6: Total
A7: 4 | B7: MANUTENÇÃO DA SECRETARIA MUNICIPAL DE EDUCAÇÃO, CULTURA E DESPORTO | C7: 2262000 | D7: 2351000 | E7: 2441000 | F7: 2533000 | G7: =SUM(C7:F7) -> 9587000
A9: IDENTIFICAÇÃO | B9: DESCRIÇÃO
A11: Órgão | B11: Secretaria Municipal de Educação, Cultura e Desporto
A12: Diretriz: | B12: Aprimorar os serviços de educação ofertados pelo Município, através das redes de ensino da etapa infantil
A13: Programa | B13: 201- LAÇOS QUE EDUCAM NA EDUCAÇÃO INFANTIL
A14: Público-Alvo | B14: Bebês e Crianças
A15: Objetivo: | B15: Ampliar o número de vagas na educação infantil
C16: VALORES e/ou INDICADORES
C17: 2026 | D17: 2027 | E17: 2028 | F17: 2029 | G17: Total
A18: Valor | C18: 17501000 | D18: 18192000 | E18: 18885000 | F18: 19595000 | G18: =SUM(C18:F18) -> 74173000
A19: Indicador de resultado: | B19: Número atendimentos nas EMEIS
A20: Meta Prevista | B20: Aumentar 58 vagas | C20: 14 | D20: 14 | E20: 15 | F20: 15 | G20: =SUM(C20:F20) -> 58
A21: Índice Atual | B21: 822
A22: Data Aferição | B22: 45838
A23: Periodicidade de medição: | B23: anual
A24: Forma de Cálculo: | B24: somatório das crianças atendidas em todas as creches municipais
A26: Órgão | B26: Secretaria Municipal de Educação, Cultura e Desporto
A27: Diretriz: | B27: Aprimorar os serviços de educação ofertados pelo Municípo, através das redes de ensino da etapa infantil e fundamental
A28: Programa | B28: 222- LAÇOS QUE EDUCAM
A29: Público-Alvo | B29: Profissionais da Educação
A30: Objetivo: | B30: Qualificar os profissionais da educação Infantil e Fundamental
C31: VALORES e/ou INDICADORES
C32: 2026 | D32: 2027 | E32: 2028 | F32: 2029 | G32: Total
A33: Valor | C33: 50000 | D33: 50000 | E33: 50000 | F33: 50000 | G33: =SUM(C33:F33) -> 200000
A34: Indicador de resultado: | B34: número de profissionais
A35: Meta Prevista | B35: 440 | C35: 8 | D35: 10 | E35: 10 | F35: 10 | G35: 38
A36: Índice Atual | B36: 402 profissionais
A37: Data Aferição | B37: 45838
A38: Periodicidade de medição: | B38: anual
A39: Forma de Cálculo: | B39: número de profissionais envolvidos com atividades de formação e qualificação
A41: Órgão | B41: Secretaria Municipal de Educação, Cultura e Desporto
A42: Diretriz: | B42: Aprimorar os serviços de educação ofertados pelo Município, através da rede de ensino da etapa fundamental
A43: Programa | B43: 202 - LAÇOS QUE EDUCAM NA EDUCAÇÃO FUNDAMENTAL
A44: Público-Alvo | B44: Estudantes
A45: Objetivo: | B45: Ampliar o número de vagas na Educação Fundamental
...

Sheet SMADMA
A1: Município: Bom Princípio
A2: PLANO PLURIANUAL 2026 - 2029
A3: ANEXO II - Programas de Gestão e Finalísticos
A5: PROGRAMA GESTÃO
A6: NÚMERO DO PROGRAMA | B6: NOME DA AÇÃO | C6: 2026 | D6: 2027 | E6: 2028 | F6: 2029 | G6: Total
A7: 6 | B7: MANUTENCAO DA SECRETARIA MUNICIPAL DA AGRICULTURA, DESENVOLVIMENTO E MEIO AMBIENTE | C7: 1819000 | D7: 1891000 | E7: 1963000 | F7: 2037000 | G7: =SUM(C7:F7) -> 7710000
A9: IDENTIFICAÇÃO | B9: DESCRIÇÃO
A11: Órgão | B11: Secretaria Municipal de Agricultura Desenvolvimento Econômico e Meio Ambiente
A12: Diretriz: | B12: Fomentar a atividade primária e o aumento da arrecadação tributária no âmbito do Município de Bom Princípio
A13: Programa | B13: 209- MÃOS DADAS
A14: Público-Alvo | B14: Produtores
A15: Objetivo: | B15: Eficientizar políticas públicas de apoio ao pequeno produtor
C16: VALORES E/OU INDICADORES
C17: 2026 | D17: 2027 | E17: 2028 | F17: 2029 | G17: Total
A18: Valor | C18: 916000 | D18: 952000 | E18: 988000 | F18: 1025000 | G18: =SUM(C18:F18) -> 3881000
A19: Indicador de resultado: | B19: Aumentar o VAF Produção Primária
A20: Meta Prevista | B20: Aumentar em 40% o VAF Produção primária | C20: 0.1 | D20: 0.1 | E20: 0.1 | F20: 0.1 | G20: 0.4
A21: Índice Atual | B21: 1.253563e+08
A22: Data Aferição | B22: 45657
A23: Periodicidade de medição: | B23: Anual
A24: Forma de Cálculo: | B24: Valor total emissão notas fiscais
A26: Órgão | B26: Secretaria Municipal de Agricultura Desenvolvimento Econômico e Meio Ambiente
A27: Diretriz: | B27: Promover uma consciência crítica, participação cidadã e práticas sustentáveis em todos os níveis e modalidades de ensino, além de atuações em contextos não-formais em conjunto com professores, funcionários públicos em geral
A28: Programa | B28: 213- PLANTANDO VALORES
A29: Público-Alvo | B29: Estudantes da rede pública, professores, funcionários públicos no geral
A30: Objetivo: | B30: Promover ações de educação ambiental para orientar a população da importancia de conservar as área de preservação permanente
C31: VALORES E/OU INDICADORES
C32: 2026 | D32: 2027 | E32: 2028 | F32: 2029 | G32: Total
A33: Valor | C33: 50000 | D33: 50000 | E33: 50000 | F33: 50000 | G33: =SUM(C33:F33) -> 200000
A34: Indicador de resultado: | B34: Número de pessoas capacitadas e envolvidas diretamente
A35: Meta Prevista | B35: 1800 pessoas | C35: 300 | D35: 400 | E35: 500 | F35: 600 | G35: =SUM(C35:F35) -> 1800
A36: Índice Atual
A37: Data Aferição | B37: 45838
A38: Periodicidade de medição: | B38: Anual
A39: Forma de Cálculo: | B39: Número de pessoas capacitadas e envolvidas diretamente
A41: Órgão | B41: Secretaria Municipal de Agricultura Desenvolvimento Econômico e Meio Ambiente
A42: Diretriz: | B42: Dar apoio na logística, direcionamento, estrutura física à Associação de Catadores do Município
A43: Programa | B43: 214- RECICLAR É BOM
A44: Público-Alvo | B44: Parceria da Comunidade - Administração - Associação/Cooperativa de Catadores
A45: Objetivo: | B45: Reaproveitar o máximo possível dos resíduos recicláveis, até então não aproveitados
...

Sheet SMS
A1: Município: Bom Princípio
A2: PLANO PLURIANUAL 2026 - 2029
A3: ANEXO II - Programas de Gestão e Finalísticos
A5: PROGRAMA GESTÃO
A6: NÚMERO DO PROGRAMA | B6: NOME DA AÇÃO | C6: 2026 | D6: 2027 | E6: 2028 | F6: 2029 | G6: Total
A7: 5 | B7: MANUTENÇÃO DA SECRETARIA MUNICIPAL DA SAUDE E ASSISTENCIA SOCIAL | C7: 2682000 | D7: 2788000 | E7: 2894000 | F7: 3003000 | G7: =SUM(C7:F7) -> 11367000
A10: IDENTIFICAÇÃO | B10: DESCRIÇÃO
A12: Órgão | B12: Secretaria Municipal de Saúde e Assistência Social
A13: Diretriz: | B13: Garantir acesso aos serviços da Atenção Básica nas UBS, conforme princípios e diretrizes do SUS
A14: Programa | B14: 215- BOM PRINCÍPIO + SAÚDE
A15: Público-Alvo | B15: Munícipes
A16: Objetivo: | B16: Promover o aumento de atividades coletivas nas ESF com educação em saúde priorizando o autocuidado e acesso aos serviços com critérios e conscientização da necessidade
C17: VALORES E/OU INDICADORES
C18: 2026 | D18: 2027 | E18: 2028 | F18: 2029 | G18: Total
A19: Valor | C19: 9497000 | D19: 9782000 | E19: 10155000 | F19: 10537000 | G19: =SUM(C19:F19) -> 39971000
A20: Indicador de resultado: | B20: Atividades coletivas na comunidade
A21: Meta Prevista | B21: Aumentar em 118 o número de atividades de Educação em Saúde | C21: 46 | D21: 24 | E21: 24 | F21: 24 | G21: =SUM(C21:F21) -> 118
A22: Índice Atual | B22: 236
A23: Data Aferição | B23: 45838
A24: Periodicidade de medição: | B24: Anual
A25: Forma de Cálculo: | B25: Número de atividades
A27: Órgão | B27: Secretaria Municipal de Saúde e Assistência Social
A28: Diretriz: | B28: Garantir acesso aos serviços de media complexidade e alta complexidade, através das referências pactuadas e serviços contratados
A29: Programa | B29: 216- BOM PRINCÍPIO + ACESSO A SAÚDE
A30: Público-Alvo | B30: Munícipes
A31: Objetivo: | B31: Promover mais acesso aos serviços e exames de media e alta complexidade com a contratação de profissionais e serviços, assim como a pactuação de referências com qualidade e resolutividade
C32: VALORES E/OU INDICADORES
C33: 2026 | D33: 2027 | E33: 2028 | F33: 2029 | G33: Total
A34: Valor | C34: 11301000 | D34: 9877000 | E34: 10253000 | F34: 10639000 | G34: =SUM(C34:F34) -> 42070000
A35: Indicador de resultado: | B35: número de especialidades médicas
A36: Meta Prevista | B36: Aumentar 04 especialidades | C36: 1 | D36: 1 | E36: 1 | F36: 1 | G36: 4
A37: Índice Atual | B37: 30
A38: Data Aferição | B38: 45838
A39: Periodicidade de medição: | B39: Anual
A40: Forma de Cálculo: | B40: Número de especialidades médicas
A42: Órgão | B42: Secretaria Municipal de Saúde e Assistência Social
A43: Diretriz: | B43: Fortalecimento em políticas públicas de Prevenção em Saúde Mental
A44: Programa | B44: 221 - BOM PRINCÍPIO + SAÚDE MENTAL
A45: Público-Alvo | B45: Munícipes
A46: Objetivo: | B46: Implantação de políticas públicas em Saúde Mental de forma coletiva/grupal
...

Sheet SMI
A1: Município: Bom Princípio
A2: PLANO PLURIANUAL 2026 - 2029
A3: ANEXO II - Programas de Gestão e Finalísticos
A5: PROGRAMA GESTÃO
A6: NÚMERO DO PROGRAMA | B6: NOME DA AÇÃO | C6: 2026 | D6: 2027 | E6: 2028 | F6: 2029 | G6: Total
A7: 7 | B7: MANUTENCAO DA SECRETARIA MUNICIPAL DA INFRAESTRUTURA | C7: 6398000 | D7: 6651000 | E7: 6904000 | F7: 7164000 | G7: =SUM(C7:F7) -> 27117000
A9: IDENTIFICAÇÃO | B9: DESCRIÇÃO
A11: Órgão | B11: Secretaria Municipal de Infraestrutura
A12: Diretriz: | B12: Qualificar a infraestrutura, criando melhores condições para a vida em sociedade
A13: Programa | B13: 208- NOVOS CAMINHOS
A14: Público-Alvo | B14: Munícipes
A15: Objetivo: | B15: Construir a infraestrutura para o presente e o futuro do município.
C16: VALORES E/OU INDICADORES
C17: 2026 | D17: 2027 | E17: 2028 | F17: 2029 | G17: Total
A18: Valor | C18: 5683000 | D18: 4836000 | E18: 3093000 | F18: 1251000 | G18: =SUM(C18:F18) -> 14863000
A19: Indicador de resultado: | B19: Ampliar a pavimentação no município
A20: Meta Prevista | B20: aumentar em 50% | C20: 0.1 | D20: 0.1 | E20: 0.15 | F20: 0.15 | G20: 0.5
A21: Índice Atual | B21: 30KM
A22: Data Aferição | B22: 45473
A23: Periodicidade de medição: | B23: Anual
A24: Forma de Cálculo: | B24: km de pavimentação no município

Sheet Planilha3
D3: 2026 | E3: 2027 | F3: 2028 | G3: 2029 | H3: total
A4: 1 | C4: MANUTENÇÃO DAS ATIVIDADES LEGISLATIVAS | D4: =Leg.!C7 -> 1704000 | E4: =Leg.!D7 -> 1800000 | F4: =Leg.!E7 -> 1896000 | G4: =Leg.!F7 -> 2000000 | H4: =Leg.!G7 -> 7400000 | I4: 7400000 | J4: =I4-H4 -> 0
A5: 2 | C5: MANUTENÇÃO DO GABINETE DO PREFEITO | D5: =GAB.!C7 -> 1546000 | E5: =GAB.!D7 -> 1607000 | F5: =GAB.!E7 -> 1668000 | G5: =GAB.!F7 -> 1731000 | H5: =GAB.!G7 -> 6552000 | I5: 6552000 | J5: =I5-H5 -> 0
A6: 3 | C6: MANUTENÇÃO DA SECRETARIA MUNICIPAL DE ADMINISTRAÇÃO E FINANÇAS E ASSUNTOS JURIDICOS | D6: =SMAFAJ!C7+SMAFAJ!C32+SMAFAJ!C47 -> 5662000 | E6: =SMAFAJ!D7+SMAFAJ!D32+SMAFAJ!D47 -> 5886000 | F6: =SMAFAJ!E7+SMAFAJ!E32+SMAFAJ!E47 -> 6110000 | G6: =SMAFAJ!F7+SMAFAJ!F32+SMAFAJ!F47 -> 6340000 | H6: =SMAFAJ!G7+SMAFAJ!G32+SMAFAJ!G47 -> 23998000 | I6: 23998000 | J6: =I6-H6 -> 0
A7: 4 | C7: MANUTENÇÃO DA SECRETARIA MUNICIPAL DE EDUCAÇÃO, CULTURA E DESPORTO | D7: =SMECD!C7+SMECD!C18++SMECD!C33+SMECD!C48+SMECD!C63+SMECD!C78+SMECD!C93+SMECD!C108 -> 40025000 | E7: =SMECD!D7+SMECD!D18++SMECD!D33+SMECD!D48+SMECD!D63+SMECD!D78+SMECD!D93+SMECD!D108 -> 41528000 | F7: =SMECD!E7+SMECD!E18++SMECD!E33+SMECD!E48+SMECD!E63+SMECD!E78+SMECD!E93+SMECD!E108 -> 43036000 | G7: =SMECD!F7+SMECD!F18++SMECD!F33+SMECD!F48+SMECD!F63+SMECD!F78+SMECD!F93+SMECD!F108 -> 44581000 | H7: =SMECD!G7+SMECD!G18++SMECD!G33+SMECD!G48+SMECD!G63+SMECD!G78+SMECD!G93+SMECD!G108 -> 169170000 | I7: 169170000 | J7: =I7-H7 -> 0
A8: 5 | C8: MANUTENÇÃO DA SECRETARIA MUNICIPAL DA SAUDE E ASSISTENCIA SOCIAL | D8: =SMS!C7+SMS!C19+SMS!C34+SMS!C49+SMS!C64+SMS!C79+SMS!C94+SMS!C128 -> 25398000 | E8: =SMS!D7+SMS!D19+SMS!D34+SMS!D49+SMS!D64+SMS!D79+SMS!D94+SMS!D128 -> 24435000 | F8: =SMS!E7+SMS!E19+SMS!E34+SMS!E49+SMS!E64+SMS!E79+SMS!E94+SMS!E128 -> 25362000 | G8: =SMS!F7+SMS!F19+SMS!F34+SMS!F49+SMS!F64+SMS!F79+SMS!F94+SMS!F128 -> 26311000 | H8: =SMS!G7+SMS!G19+SMS!G34+SMS!G49+SMS!G64+SMS!G79+SMS!G94+SMS!G128 -> 101506000 | I8: 101506000 | J8: =I8-H8 -> 0
A9: 6 | C9: MANUTENCAO DA SECRETARIA MUNICIPAL DA AGRICULTURA, DESENVOLVIMENTO E MEIO AMBIENTE | D9: =SMADMA!C7+SMADMA!C18+SMADMA!C33+SMADMA!C48+SMADMA!C63+SMADMA!C78 -> 6327000 | E9: =SMADMA!D7+SMADMA!D18+SMADMA!D33+SMADMA!D48+SMADMA!D63+SMADMA!D78 -> 6496000 | F9: =SMADMA!E7+SMADMA!E18+SMADMA!E33+SMADMA!E48+SMADMA!E63+SMADMA!E78 -> 6665000 | G9: =SMADMA!F7+SMADMA!F18+SMADMA!F33+SMADMA!F48+SMADMA!F63+SMADMA!F78 -> 6838000 | H9: =SMADMA!G7+SMADMA!G18+SMADMA!G33+SMADMA!G48+SMADMA!G63+SMADMA!G78 -> 26326000 | I9: 26326000 | J9: =I9-H9 -> 0
A10: 7 | C10: MANUTENCAO DA SECRETARIA MUNICIPAL DA INFRAESTRUTURA | D10: =SMI!C7+SMI!C18 -> 12081000 | E10: =SMI!D7+SMI!D18 -> 11487000 | F10: =SMI!E7+SMI!E18 -> 9997000 | G10: =SMI!F7+SMI!F18 -> 8415000 | H10: =SMI!G7+SMI!G18 -> 41980000 | I10: 41980000 | J10: =I10-H10 -> 0
A11: 8 | C11: DESENV. E MEIO AMBIENTE | I11: 0 | J11: =I11-H11 -> 0
A12: 9 | C12: MANUTENÇÃO ATIVIDADES ADMINISTRATIVAS RPPS | D12: =SMAFAJ!C11 -> 250000 | E12: =SMAFAJ!D11 -> 250000 | F12: =SMAFAJ!E11 -> 250000 | G12: =SMAFAJ!F11 -> 250000 | H12: =SMAFAJ!G11 -> 1000000 | I12: 1000000 | J12: =I12-H12 -> 0
A13: SUBTOTAL | I13: 377932000 | J13: =I13-H13 -> 377932000
A14: 0 | C14: BENEFICIO DE APOSENTADORIA E PENSÃO | D14: =SMAFAJ!C15 -> 11500000 | E14: =SMAFAJ!D15 -> 12000000 | F14: =SMAFAJ!E15 -> 12500000 | G14: =SMAFAJ!F15 -> 13000000 | H14: =SMAFAJ!G15 -> 49000000 | I14: 49000000 | J14: =I14-H14 -> 0
A15: 0 | C15: AMORT DIV FUNDADA | D15: =SMAFAJ!C16 -> 12070000 | E15: =SMAFAJ!D16 -> 12547000 | F15: =SMAFAJ!E16 -> 13025000 | G15: =SMAFAJ!F16 -> 13515000 | H15: =SMAFAJ!G16 -> 51157000 | I15: 51157000 | J15: =I15-H15 -> 0
A16: 0 | C16: AMORT DIV PREVIDENCIARIA | D16: =SMAFAJ!C17 -> 587000 | E16: =SMAFAJ!D17 -> 610000 | F16: =SMAFAJ!E17 -> 633000 | G16: =SMAFAJ!F17 -> 657000 | H16: =SMAFAJ!G17 -> 2487000 | I16: 2487000 | J16: =I16-H16 -> 0
A17: 0 | C17: PRECATÓRIOS JUDICIAIS | D17: =SMAFAJ!C18 -> 100000 | E17: =SMAFAJ!D18 -> 104000 | F17: =SMAFAJ!E18 -> 108000 | G17: =SMAFAJ!F18 -> 112000 | H17: =SMAFAJ!G18 -> 424000 | I17: 424000 | J17: =I17-H17 -> 0
A18: SUBTOTAL | I18: 103068000 | J18: =I18-H18 -> 103068000
A19: 9999 | C19: RES CONTING LIVRE | D19: =SMAFAJ!C19 -> 1500000 | E19: =SMAFAJ!D19 -> 1500000 | F19: =SMAFAJ!E19 -> 1500000 | G19: =SMAFAJ!F19 -> 1500000 | H19: =SMAFAJ!G19 -> 6000000 | I19: 6000000 | J19: =I19-H19 -> 0
A20: 9999 | C20: RES CONTING RPPS | D20: =SMAFAJ!C20 -> 4250000 | E20: =SMAFAJ!D20 -> 4250000 | F20: =SMAFAJ!E20 -> 4250000 | G20: =SMAFAJ!F20 -> 4250000 | H20: =SMAFAJ!G20 -> 17000000 | I20: 17000000 | J20: =I20-H20 -> 0
I21: 23000000 | J21: =I21-H21 -> 23000000
I22: =I13+I18+I21 -> 504000000 | J22: =I22-H22 -> 504000000
